BEGIN:VCALENDAR
PRODID:scnitm
VERSION:2.0
BEGIN:VTIMEZONE
TZID:my/AEST
BEGIN:STANDARD
DTSTART:19700101T010000
TZOFFSETFROM:+1000
TZOFFSETTO:+1000
END:STANDARD
END:VTIMEZONE
BEGIN:VTIMEZONE
TZID:my/AEDT
BEGIN:STANDARD
DTSTART:19700101T010000
TZOFFSETFROM:+1100
TZOFFSETTO:+1100
END:STANDARD
END:VTIMEZONE
BEGIN:VEVENT
UID:scnitm-485767-1777124353-1
DTSTART;TZID=my/AEST:20180822T120000
DTEND;TZID=my/AEST:20180822T130000
SUMMARY:Nicholson -- Poincare 3-complexes and Stably-Free Modules over Integral Group Rings
DESCRIPTION:See scnews item https://mail.maths.usyd.edu.au/s/scnitm/borisl-GeometryAndTopologySemina-006
LOCATION:Carslaw 830
END:VEVENT
END:VCALENDAR

