BEGIN:VCALENDAR
PRODID:scnitm
VERSION:2.0
BEGIN:VTIMEZONE
TZID:my/AEST
BEGIN:STANDARD
DTSTART:19700101T010000
TZOFFSETFROM:+1000
TZOFFSETTO:+1000
END:STANDARD
END:VTIMEZONE
BEGIN:VTIMEZONE
TZID:my/AEDT
BEGIN:STANDARD
DTSTART:19700101T010000
TZOFFSETFROM:+1100
TZOFFSETTO:+1100
END:STANDARD
END:VTIMEZONE
BEGIN:VEVENT
UID:scnitm-486193-1777124454-1
DTSTART;TZID=my/AEDT:20181211T120000
DTEND;TZID=my/AEDT:20181211T130000
SUMMARY:Choi -- Lens-shaped totally geodesic ends of convex real projective manifolds
DESCRIPTION:See scnews item https://mail.maths.usyd.edu.au/s/scnitm/borisl-GeometryAndTopologySemina-017
LOCATION:Carslaw 535A
END:VEVENT
END:VCALENDAR

