BEGIN:VCALENDAR
PRODID:scnitm
VERSION:2.0
BEGIN:VTIMEZONE
TZID:my/AEST
BEGIN:STANDARD
DTSTART:19700101T010000
TZOFFSETFROM:+1000
TZOFFSETTO:+1000
END:STANDARD
END:VTIMEZONE
BEGIN:VTIMEZONE
TZID:my/AEDT
BEGIN:STANDARD
DTSTART:19700101T010000
TZOFFSETFROM:+1100
TZOFFSETTO:+1100
END:STANDARD
END:VTIMEZONE
BEGIN:VEVENT
UID:scnitm-486159-1777124449-1
DTSTART;TZID=my/AEDT:20190123T140000
DTEND;TZID=my/AEDT:20190123T150000
SUMMARY:Kellerhals -- Small hyperbolic orbifolds and Coxeter groups
DESCRIPTION:See scnews item https://mail.maths.usyd.edu.au/s/scnitm/borisl-GeometryAndTopologySemina-019
LOCATION:Carslaw 535A
END:VEVENT
END:VCALENDAR

