BEGIN:VCALENDAR
PRODID:scnitm
VERSION:2.0
BEGIN:VTIMEZONE
TZID:my/AEST
BEGIN:STANDARD
DTSTART:19700101T010000
TZOFFSETFROM:+1000
TZOFFSETTO:+1000
END:STANDARD
END:VTIMEZONE
BEGIN:VTIMEZONE
TZID:my/AEDT
BEGIN:STANDARD
DTSTART:19700101T010000
TZOFFSETFROM:+1100
TZOFFSETTO:+1100
END:STANDARD
END:VTIMEZONE
BEGIN:VEVENT
UID:scnitm-486155-1777124448-1
DTSTART;TZID=my/AEST:20190823T110000
DTEND;TZID=my/AEST:20190823T120000
SUMMARY:Maher -- Random walks on geometric groups
DESCRIPTION:See scnews item https://mail.maths.usyd.edu.au/s/scnitm/borisl-GeometryAndTopologySemina-041
LOCATION:Quadrangle S225
END:VEVENT
END:VCALENDAR

