BEGIN:VCALENDAR
PRODID:scnitm
VERSION:2.0
BEGIN:VTIMEZONE
TZID:my/AEST
BEGIN:STANDARD
DTSTART:19700101T010000
TZOFFSETFROM:+1000
TZOFFSETTO:+1000
END:STANDARD
END:VTIMEZONE
BEGIN:VTIMEZONE
TZID:my/AEDT
BEGIN:STANDARD
DTSTART:19700101T010000
TZOFFSETFROM:+1100
TZOFFSETTO:+1100
END:STANDARD
END:VTIMEZONE
BEGIN:VEVENT
UID:scnitm-486215-1777124458-1
DTSTART;TZID=my/AEDT:20191104T120000
DTEND;TZID=my/AEDT:20191104T130000
SUMMARY:POSTPONED Huh -- Logarithmic concavity of Schur polynomials
DESCRIPTION:See scnews item https://mail.maths.usyd.edu.au/s/scnitm/borisl-GeometryAndTopologySemina-051
LOCATION:Carslaw 375
END:VEVENT
END:VCALENDAR

