BEGIN:VCALENDAR
PRODID:scnitm
VERSION:2.0
BEGIN:VTIMEZONE
TZID:my/AEST
BEGIN:STANDARD
DTSTART:19700101T010000
TZOFFSETFROM:+1000
TZOFFSETTO:+1000
END:STANDARD
END:VTIMEZONE
BEGIN:VTIMEZONE
TZID:my/AEDT
BEGIN:STANDARD
DTSTART:19700101T010000
TZOFFSETFROM:+1100
TZOFFSETTO:+1100
END:STANDARD
END:VTIMEZONE
BEGIN:VEVENT
UID:scnitm-484535-1777124129-1
DTSTART;TZID=my/AEDT:20260304T100000
DTEND;TZID=my/AEDT:20260304T120000
SUMMARY:Canonical Basis Learning Seminar
DESCRIPTION:See scnews item https://mail.maths.usyd.edu.au/s/scnitm/goertzen-CanonicalBasisLearningSem
LOCATION:SMRI Seminar Room (Macleay Building A12 Room 301)
END:VEVENT
BEGIN:VEVENT
UID:scnitm-484535-1777124129-2
DTSTART;TZID=my/AEDT:20260311T100000
DTEND;TZID=my/AEDT:20260311T120000
SUMMARY:Canonical Basis Learning Seminar
DESCRIPTION:See scnews item https://mail.maths.usyd.edu.au/s/scnitm/goertzen-CanonicalBasisLearningSem
LOCATION:SMRI Seminar Room (Macleay Building A12 Room 301)
END:VEVENT
BEGIN:VEVENT
UID:scnitm-484535-1777124129-3
DTSTART;TZID=my/AEDT:20260318T100000
DTEND;TZID=my/AEDT:20260318T120000
SUMMARY:Canonical Basis Learning Seminar -- Canonical Basis Learning Seminar
DESCRIPTION:See scnews item https://mail.maths.usyd.edu.au/s/scnitm/goertzen-CanonicalBasisLearningSem
LOCATION:SMRI Seminar Room (Macleay Building A12 Room 301)
END:VEVENT
BEGIN:VEVENT
UID:scnitm-484535-1777124129-4
DTSTART;TZID=my/AEDT:20260325T100000
DTEND;TZID=my/AEDT:20260325T120000
SUMMARY:Canonical Basis Learning Seminar -- Canonical Basis Learning Seminar
DESCRIPTION:See scnews item https://mail.maths.usyd.edu.au/s/scnitm/goertzen-CanonicalBasisLearningSem
LOCATION:SMRI Seminar Room (Macleay Building A12 Room 301)
END:VEVENT
BEGIN:VEVENT
UID:scnitm-484535-1777124129-5
DTSTART;TZID=my/AEDT:20260401T100000
DTEND;TZID=my/AEDT:20260401T120000
SUMMARY:Canonical Basis Learning Seminar -- Canonical Basis Learning Seminar
DESCRIPTION:See scnews item https://mail.maths.usyd.edu.au/s/scnitm/goertzen-CanonicalBasisLearningSem
LOCATION:SMRI Seminar Room (Macleay Building A12 Room 301)
END:VEVENT
BEGIN:VEVENT
UID:scnitm-484535-1777124129-6
DTSTART;TZID=my/AEST:20260415T100000
DTEND;TZID=my/AEST:20260415T120000
SUMMARY:Canonical Basis Learning Seminar -- Canonical Basis Learning Seminar
DESCRIPTION:See scnews item https://mail.maths.usyd.edu.au/s/scnitm/goertzen-CanonicalBasisLearningSem
LOCATION:SMRI Seminar Room (Macleay Building A12 Room 301)
END:VEVENT
BEGIN:VEVENT
UID:scnitm-484535-1777124129-7
DTSTART;TZID=my/AEST:20260422T100000
DTEND;TZID=my/AEST:20260422T120000
SUMMARY:Canonical Basis Learning Seminar -- Canonical Basis Learning Seminar
DESCRIPTION:See scnews item https://mail.maths.usyd.edu.au/s/scnitm/goertzen-CanonicalBasisLearningSem
LOCATION:SMRI Seminar Room (Macleay Building A12 Room 301)
END:VEVENT
END:VCALENDAR

