BEGIN:VCALENDAR
PRODID:scnitm
VERSION:2.0
BEGIN:VTIMEZONE
TZID:my/AEST
BEGIN:STANDARD
DTSTART:19700101T010000
TZOFFSETFROM:+1000
TZOFFSETTO:+1000
END:STANDARD
END:VTIMEZONE
BEGIN:VTIMEZONE
TZID:my/AEDT
BEGIN:STANDARD
DTSTART:19700101T010000
TZOFFSETFROM:+1100
TZOFFSETTO:+1100
END:STANDARD
END:VTIMEZONE
BEGIN:VEVENT
UID:scnitm-3402032-1776786254-1
DTSTART;TZID=my/AEST:20260504T130000
DTEND;TZID=my/AEST:20260504T140000
SUMMARY:Machine Learning Seminar: Wormell -- A statistical indicator for eigenvalues of matrices approximated by least squares
DESCRIPTION:See scnews item https://mail.maths.usyd.edu.au/s/scnitm/hongweiw-MachineLearningSeminar-Wo
END:VEVENT
END:VCALENDAR

