BEGIN:VCALENDAR
PRODID:scnitm
VERSION:2.0
BEGIN:VTIMEZONE
TZID:my/AEST
BEGIN:STANDARD
DTSTART:19700101T010000
TZOFFSETFROM:+1000
TZOFFSETTO:+1000
END:STANDARD
END:VTIMEZONE
BEGIN:VTIMEZONE
TZID:my/AEDT
BEGIN:STANDARD
DTSTART:19700101T010000
TZOFFSETFROM:+1100
TZOFFSETTO:+1100
END:STANDARD
END:VTIMEZONE
BEGIN:VEVENT
UID:scnitm-484778-1777124193-1
DTSTART;TZID=my/AEST:20230823T130000
DTEND;TZID=my/AEST:20230823T140000
SUMMARY:Rogue bursting as an effect of broken symmetry
DESCRIPTION:See scnews item https://mail.maths.usyd.edu.au/s/scnitm/jlee-AppliedMathsSeminar-Subra
LOCATION:Carslaw 373
END:VEVENT
END:VCALENDAR

