BEGIN:VCALENDAR
PRODID:scnitm
VERSION:2.0
BEGIN:VTIMEZONE
TZID:my/AEST
BEGIN:STANDARD
DTSTART:19700101T010000
TZOFFSETFROM:+1000
TZOFFSETTO:+1000
END:STANDARD
END:VTIMEZONE
BEGIN:VTIMEZONE
TZID:my/AEDT
BEGIN:STANDARD
DTSTART:19700101T010000
TZOFFSETFROM:+1100
TZOFFSETTO:+1100
END:STANDARD
END:VTIMEZONE
BEGIN:VEVENT
UID:scnitm-485415-1777124309-1
DTSTART;TZID=my/AEST:20190726T143000
DTEND;TZID=my/AEST:20190726T163000
SUMMARY:Burrull - The Bruhat graph of a Coxeter group
DESCRIPTION:See scnews item https://mail.maths.usyd.edu.au/s/scnitm/romanova-InformalFridaySeminar-Bur-001
LOCATION:Quad S225
END:VEVENT
END:VCALENDAR

