BEGIN:VCALENDAR
PRODID:scnitm
VERSION:2.0
BEGIN:VTIMEZONE
TZID:my/AEST
BEGIN:STANDARD
DTSTART:19700101T010000
TZOFFSETFROM:+1000
TZOFFSETTO:+1000
END:STANDARD
END:VTIMEZONE
BEGIN:VTIMEZONE
TZID:my/AEDT
BEGIN:STANDARD
DTSTART:19700101T010000
TZOFFSETFROM:+1100
TZOFFSETTO:+1100
END:STANDARD
END:VTIMEZONE
BEGIN:VEVENT
UID:scnitm-485119-1777124269-1
DTSTART;TZID=my/AEDT:20251121T140000
DTEND;TZID=my/AEDT:20251121T150000
SUMMARY:Regression Tree and Clustering for Distributions, and Homogeneous Structure of Population Characteristics
DESCRIPTION:See scnews item https://mail.maths.usyd.edu.au/s/scnitm/tcui-Seminar-Minami-Regression
LOCATION:Carslaw 275
END:VEVENT
END:VCALENDAR

